BEGIN:VCALENDAR
VERSION:2.0
PRODID:-//Baltimore Amateur Radio Club - ECPv6.15.20//NONSGML v1.0//EN
CALSCALE:GREGORIAN
METHOD:PUBLISH
X-ORIGINAL-URL:https://w3ft.com
X-WR-CALDESC:Events for Baltimore Amateur Radio Club
REFRESH-INTERVAL;VALUE=DURATION:PT1H
X-Robots-Tag:noindex
X-PUBLISHED-TTL:PT1H
BEGIN:VTIMEZONE
TZID:America/New_York
BEGIN:DAYLIGHT
TZOFFSETFROM:-0500
TZOFFSETTO:-0400
TZNAME:EDT
DTSTART:20250309T070000
END:DAYLIGHT
BEGIN:STANDARD
TZOFFSETFROM:-0400
TZOFFSETTO:-0500
TZNAME:EST
DTSTART:20251102T060000
END:STANDARD
BEGIN:DAYLIGHT
TZOFFSETFROM:-0500
TZOFFSETTO:-0400
TZNAME:EDT
DTSTART:20260308T070000
END:DAYLIGHT
BEGIN:STANDARD
TZOFFSETFROM:-0400
TZOFFSETTO:-0500
TZNAME:EST
DTSTART:20261101T060000
END:STANDARD
BEGIN:DAYLIGHT
TZOFFSETFROM:-0500
TZOFFSETTO:-0400
TZNAME:EDT
DTSTART:20270314T070000
END:DAYLIGHT
BEGIN:STANDARD
TZOFFSETFROM:-0400
TZOFFSETTO:-0500
TZNAME:EST
DTSTART:20271107T060000
END:STANDARD
END:VTIMEZONE
BEGIN:VEVENT
DTSTART;TZID=America/New_York:20260902T190000
DTEND;TZID=America/New_York:20260902T203000
DTSTAMP:20260419T124305
CREATED:20260411T025809Z
LAST-MODIFIED:20260411T025810Z
UID:3237-1788375600-1788381000@w3ft.com
SUMMARY:BARC Monthly Meeting By Z00m
DESCRIPTION:Club meetings are on the first Wednesday of each month\, 7:00 pm. by Zoom. https://zoom.us/ Select “Join Meeting” then enter: Meeting ID 350 725 6358 . Password: 374406 (requires computer connection\, this is not a phone number). Dial-in by telephone only: (301) 715-8592. Do log in to the meeting starting at 6:30 pm. for informal chit-chat. \n\n\n\nClub membership is not required for attendance or to join our e-mail reflector.
URL:https://w3ft.com/event/barc-monthly-meeting-by-z00m/
LOCATION:Massachusetts
ORGANIZER;CN="Baltimore Amateur Radio Club":MAILTO:w3ft67@yahoo.com
END:VEVENT
BEGIN:VEVENT
DTSTART;TZID=America/New_York:20260913T080000
DTEND;TZID=America/New_York:20260913T120000
DTSTAMP:20260419T124305
CREATED:20260419T005726Z
LAST-MODIFIED:20260419T010153Z
UID:3260-1789286400-1789300800@w3ft.com
SUMMARY:2026 Central Pennsylvania Hamfest at Clearfield PA
DESCRIPTION:Greetings! \n\n\n\nHamfest season has begun and the Clearfield County Amateur Radio Club\, CCARC\, is busy preparing for the 2026 Central Pennsylvania Hamfest at Clearfield PA. \n\n\n\nOur 2025 event was our first hamfest ever. It was a learning experience\, but overall a success with over 200 paid entries at the front gate. We’re taking the lessons learned from last year and building a better hamfest for 2026. \n\n\n\n\n6 AM Setup\n\n\n\n8 AM Hamfest opens\n\n\n\n8 AM ARES® Meeting\n\n\n\n9 AM SKYWARN Spotter Training\n\n\n\n10 AM ARRL Atlantic Division Director &Section Manager\n\n\n\n11AM VE Testing\n\n\n\n11:30AM Prize Drawings\n\n\n\n12 PM Close
URL:https://w3ft.com/event/2026-central-pennsylvania-hamfest-at-clearfield-pa/
LOCATION:Clearﬁeld County Fair Grounds\, Community Hall Building; Weaver St Exit from US 322\, Clearfield\, Pennsylvania\, 16830
END:VEVENT
BEGIN:VEVENT
DTSTART;TZID=America/New_York:20261004T080000
DTEND;TZID=America/New_York:20261004T130000
DTSTAMP:20260419T124305
CREATED:20250625T004211Z
LAST-MODIFIED:20260204T105003Z
UID:2445-1791100800-1791118800@w3ft.com
SUMMARY:CARA FEST - Hamfest
DESCRIPTION:CARA Fest 2026 \n\n\n\nHAMFEST/CONVENTION10/05/2025 \n\n\n\nStart Date: 10/04/2026End Date: 10/05/2026Location: Howard County Fairgrounds2210 Fairground RoadWest Friendship\, MD 21794Website: http://www.carafest.orgSponsor: Columbia Amateur Radio Association (CARA)Type: ARRL HamfestTalk-In: 147.390 /R+ CTCSS 156.7Public Contact: Andy Protigal \, N3AWP
URL:https://w3ft.com/event/cara-fest-hamfest/
LOCATION:Massachusetts
END:VEVENT
BEGIN:VEVENT
DTSTART;TZID=America/New_York:20261007T190000
DTEND;TZID=America/New_York:20261007T203000
DTSTAMP:20260419T124305
CREATED:20260411T030100Z
LAST-MODIFIED:20260411T030101Z
UID:3239-1791399600-1791405000@w3ft.com
SUMMARY:BARC Monthly Meeting By Zoom
DESCRIPTION:Club meetings are on the first Wednesday of each month\, 7:00 pm. by Zoom. https://zoom.us/ Select “Join Meeting” then enter: Meeting ID 350 725 6358 . Password: 374406 (requires computer connection\, this is not a phone number). Dial-in by telephone only: (301) 715-8592. Do log in to the meeting starting at 6:30 pm. for informal chit-chat. \n\n\n\nClub membership is not required for attendance or to join our e-mail reflector.
URL:https://w3ft.com/event/barc-monthly-meeting-by-zoom-20/
LOCATION:Massachusetts
ORGANIZER;CN="Baltimore Amateur Radio Club":MAILTO:w3ft67@yahoo.com
END:VEVENT
BEGIN:VEVENT
DTSTART;TZID=America/New_York:20261104T190000
DTEND;TZID=America/New_York:20261104T203000
DTSTAMP:20260419T124305
CREATED:20260411T030407Z
LAST-MODIFIED:20260411T030408Z
UID:3241-1793818800-1793824200@w3ft.com
SUMMARY:BARC Monthly Meeting By Zoom
DESCRIPTION:Club meetings are on the first Wednesday of each month\, 7:00 pm. by Zoom. https://zoom.us/ Select “Join Meeting” then enter: Meeting ID 350 725 6358 . Password: 374406 (requires computer connection\, this is not a phone number). Dial-in by telephone only: (301) 715-8592. Do log in to the meeting starting at 6:30 pm. for informal chit-chat. \n\n\n\nClub membership is not required for attendance or to join our e-mail reflector.
URL:https://w3ft.com/event/barc-monthly-meeting-by-zoom-21/
LOCATION:Massachusetts
ORGANIZER;CN="Baltimore Amateur Radio Club":MAILTO:w3ft67@yahoo.com
END:VEVENT
BEGIN:VEVENT
DTSTART;TZID=America/New_York:20261202T190000
DTEND;TZID=America/New_York:20261202T203000
DTSTAMP:20260419T124305
CREATED:20260411T030604Z
LAST-MODIFIED:20260411T030621Z
UID:3243-1796238000-1796243400@w3ft.com
SUMMARY:BARC Monthly Meeting By Zoom
DESCRIPTION:Club meetings are on the first Wednesday of each month\, 7:00 pm. by Zoom. https://zoom.us/ Select “Join Meeting” then enter: Meeting ID 350 725 6358 . Password: 374406 (requires computer connection\, this is not a phone number). Dial-in by telephone only: (301) 715-8592. Do log in to the meeting starting at 6:30 pm. for informal chit-chat. \n\n\n\nClub membership is not required for attendance or to join our e-mail reflector.
URL:https://w3ft.com/event/barc-monthly-meeting-by-zoom-22/
LOCATION:Massachusetts
ORGANIZER;CN="Baltimore Amateur Radio Club":MAILTO:w3ft67@yahoo.com
END:VEVENT
END:VCALENDAR